BEGIN:VCALENDAR
VERSION:2.0
PRODID:-//Contemporary Art Museum St. Louis - ECPv6.15.20//NONSGML v1.0//EN
CALSCALE:GREGORIAN
METHOD:PUBLISH
X-WR-CALNAME:Contemporary Art Museum St. Louis
X-ORIGINAL-URL:https://camstl.org
X-WR-CALDESC:Events for Contemporary Art Museum St. Louis
REFRESH-INTERVAL;VALUE=DURATION:PT1H
X-Robots-Tag:noindex
X-PUBLISHED-TTL:PT1H
BEGIN:VTIMEZONE
TZID:America/Chicago
BEGIN:DAYLIGHT
TZOFFSETFROM:-0600
TZOFFSETTO:-0500
TZNAME:CDT
DTSTART:20170312T080000
END:DAYLIGHT
BEGIN:STANDARD
TZOFFSETFROM:-0500
TZOFFSETTO:-0600
TZNAME:CST
DTSTART:20171105T070000
END:STANDARD
BEGIN:DAYLIGHT
TZOFFSETFROM:-0600
TZOFFSETTO:-0500
TZNAME:CDT
DTSTART:20180311T080000
END:DAYLIGHT
BEGIN:STANDARD
TZOFFSETFROM:-0500
TZOFFSETTO:-0600
TZNAME:CST
DTSTART:20181104T070000
END:STANDARD
BEGIN:DAYLIGHT
TZOFFSETFROM:-0600
TZOFFSETTO:-0500
TZNAME:CDT
DTSTART:20190310T080000
END:DAYLIGHT
BEGIN:STANDARD
TZOFFSETFROM:-0500
TZOFFSETTO:-0600
TZNAME:CST
DTSTART:20191103T070000
END:STANDARD
END:VTIMEZONE
BEGIN:VEVENT
DTSTART;TZID=America/Chicago:20180615T210000
DTEND;TZID=America/Chicago:20180616T000000
DTSTAMP:20260421T033032
CREATED:20180318T222627Z
LAST-MODIFIED:20231228T191023Z
UID:5128-1529096400-1529107200@camstl.org
SUMMARY:Art Up Late: Louie\, Louie
DESCRIPTION:*Online ticket sales will end at 8:00 pm CT on Friday\, June 15. Tickets will be available for purchase at the door.* \nA better reason to stay up late. CAM keeps the doors open until midnight one Friday each season for an exhibition-themed celebration. Inspired by the 2018 Great Rivers Biennial which centers artists living and working in the St. Louis metro region\, join us for a late-night celebration of the city in which we live. Come and feel unashamedly good about all things St. Louis. You’ll find homegrown entertainment that will make you shake it like Tina Turner with the help of CAM DJ-in-residence 18andCounting in collaboration with Blank Thomas. \nAt the event\, bid on exciting St. Louis experiences such as a private tour of the National Blues Museum\, a four course dinner at Elaia\, a Schlafly VIP brewery tour and tasting\, and more. View the auction PDF here. \nSponsorship opportunities available. Please contact Valerie Rudy-Valli at 314.525.0770 x213 or vvalli@camstl.org. \nAll proceeds from Art Up Late benefit CAM’s exhibitions and education programs.
URL:https://camstl.org/event/art-up-late-louie-louie/
ATTACH;FMTTYPE=image/jpeg:https://camstl.org/wp-content/uploads/2018/03/LouieLouie_General-e1521411879516.jpg
END:VEVENT
END:VCALENDAR