BEGIN:VCALENDAR
VERSION:2.0
PRODID:-//Contemporary Art Museum St. Louis - ECPv6.15.20//NONSGML v1.0//EN
CALSCALE:GREGORIAN
METHOD:PUBLISH
X-WR-CALNAME:Contemporary Art Museum St. Louis
X-ORIGINAL-URL:https://camstl.org
X-WR-CALDESC:Events for Contemporary Art Museum St. Louis
REFRESH-INTERVAL;VALUE=DURATION:PT1H
X-Robots-Tag:noindex
X-PUBLISHED-TTL:PT1H
BEGIN:VTIMEZONE
TZID:America/Chicago
BEGIN:DAYLIGHT
TZOFFSETFROM:-0600
TZOFFSETTO:-0500
TZNAME:CDT
DTSTART:20230312T080000
END:DAYLIGHT
BEGIN:STANDARD
TZOFFSETFROM:-0500
TZOFFSETTO:-0600
TZNAME:CST
DTSTART:20231105T070000
END:STANDARD
BEGIN:DAYLIGHT
TZOFFSETFROM:-0600
TZOFFSETTO:-0500
TZNAME:CDT
DTSTART:20240310T080000
END:DAYLIGHT
BEGIN:STANDARD
TZOFFSETFROM:-0500
TZOFFSETTO:-0600
TZNAME:CST
DTSTART:20241103T070000
END:STANDARD
BEGIN:DAYLIGHT
TZOFFSETFROM:-0600
TZOFFSETTO:-0500
TZNAME:CDT
DTSTART:20250309T080000
END:DAYLIGHT
BEGIN:STANDARD
TZOFFSETFROM:-0500
TZOFFSETTO:-0600
TZNAME:CST
DTSTART:20251102T070000
END:STANDARD
END:VTIMEZONE
BEGIN:VEVENT
DTSTART;TZID=America/Chicago:20241029T180000
DTEND;TZID=America/Chicago:20241029T190000
DTSTAMP:20260420T184558
CREATED:20240923T202758Z
LAST-MODIFIED:20241205T163941Z
UID:74918-1730224800-1730228400@camstl.org
SUMMARY:Artist Talk: Bisa Butler and Basil Kincaid
DESCRIPTION:Join Great Rivers Biennial 2024 artist Basil Kincaid for an artist conversation with Bisa Butler. The two will explore shared themes and practices engaged by their artworks\, including family influences\, fabrics and quilting\, and a range of influences from Ghana to the American South. The conversation will be moderated by Associate Curator Misa Jeffereis.  \nThis talk was originally scheduled for Friday\, October 4 as part of First Friday: Celebrating Basil Kincaid.  \nRegistration is encouraged; please click here to sign up. Doors open at 5:30 pm. \nAbout the Artists \n\nThrough her dynamic\, celebratory quilted portraits of people of African descent\, Bisa Butler (b. 1973\, Orange\, NJ) investigates the purposes and potential of portraiture within the Black historical narrative. Butler’s influences range widely from personal family scrapbooks to American folk traditions and AfriCOBRA philosophies. Although her finished works are made entirely of textiles\, Butler approaches the medium from a painterly perspective. Sourcing imagery mainly from photographs\, she uses layered fabrics and quilting to create unique compositions\, psychological depth and detailed textures that she found missing from her paintings. By returning to textiles\, Butler has reconnected with her family’s history since it was her grandmother and mother who taught her to sew. Bisa Butler lives in South Orange\, New Jersey and has a studio in Jersey City. Butler earned her BFA in painting at Howard University\, Washington\, D.C. in 1995 and holds a MAT in teaching art from Montclair State University\, New Jersey. Her work has been exhibited widely\, both domestically and internationally. In 2020\, Butler had her first institutional solo exhibition at the Art Institute of Chicago. Her work can be found in the permanent collection of the Art Institute of Chicago; Museum of Fine Arts\, Boston; and Pérez Art Museum\, Miami. The World Is Yours\, Butler’s first solo exhibition with Jeffrey Deitch\, in 2023 in New York\, was enthusiastically received and attracted thousands of visitors.\nBasil Kincaid (b. 1986\, St. Louis\, MO) is an artist who honors and evolves traditional practices through quilting\, drawing\, collaging\, photography\, installation\, and performance. Kincaid received his BA in drawing and painting at Colorado College\, Colorado Springs and has exhibited works with Hauser & Wirth\, Mindy Solomon Gallery\, Kravets Wehby Gallery\, Kavi Gupta Gallery\, Carl Kostyál\, and others. Kincaid has received fellowships from the Regional Arts Commission\, St. Louis\, and United States Artists. Recent solo exhibitions include The New Bend at Hauser & Wirth\, New York and Los Angeles locations; New African Portraiture at the Kunsthalle Krems\, Austria; All in One Feeling at Mindy Solomon Gallery\, Miami; Dancing the Wind Walk\, a semi-permanent fabric monument during Frieze Los Angeles 2023\, with support from the Art Production Fund; and a ceremonial installation at Laumeier Sculpture Park in St. Louis\, among others. Kincaid’s work is in the collection of the Smithsonian American Art Museum.
URL:https://camstl.org/event/artist-talk-bisa-butler-and-basil-kincaid/
LOCATION:Contemporary Art Museum St. Louis\, 3750 Washington Blvd\, St. Louis\, MO\, 63108\, United States
CATEGORIES:Free,Talk
ATTACH;FMTTYPE=image/png:https://camstl.org/wp-content/uploads/2024/09/bisa-basil-artist-talk.png
GEO:38.6405635;-90.2349529
X-APPLE-STRUCTURED-LOCATION;VALUE=URI;X-ADDRESS=Contemporary Art Museum St. Louis 3750 Washington Blvd St. Louis MO 63108 United States;X-APPLE-RADIUS=500;X-TITLE=3750 Washington Blvd:geo:-90.2349529,38.6405635
END:VEVENT
END:VCALENDAR