BEGIN:VCALENDAR
VERSION:2.0
PRODID:-//Contemporary Art Museum St. Louis - ECPv6.15.20//NONSGML v1.0//EN
CALSCALE:GREGORIAN
METHOD:PUBLISH
X-WR-CALNAME:Contemporary Art Museum St. Louis
X-ORIGINAL-URL:https://camstl.org
X-WR-CALDESC:Events for Contemporary Art Museum St. Louis
REFRESH-INTERVAL;VALUE=DURATION:PT1H
X-Robots-Tag:noindex
X-PUBLISHED-TTL:PT1H
BEGIN:VTIMEZONE
TZID:America/Chicago
BEGIN:DAYLIGHT
TZOFFSETFROM:-0600
TZOFFSETTO:-0500
TZNAME:CDT
DTSTART:20170312T080000
END:DAYLIGHT
BEGIN:STANDARD
TZOFFSETFROM:-0500
TZOFFSETTO:-0600
TZNAME:CST
DTSTART:20171105T070000
END:STANDARD
BEGIN:DAYLIGHT
TZOFFSETFROM:-0600
TZOFFSETTO:-0500
TZNAME:CDT
DTSTART:20180311T080000
END:DAYLIGHT
BEGIN:STANDARD
TZOFFSETFROM:-0500
TZOFFSETTO:-0600
TZNAME:CST
DTSTART:20181104T070000
END:STANDARD
BEGIN:DAYLIGHT
TZOFFSETFROM:-0600
TZOFFSETTO:-0500
TZNAME:CDT
DTSTART:20190310T080000
END:DAYLIGHT
BEGIN:STANDARD
TZOFFSETFROM:-0500
TZOFFSETTO:-0600
TZNAME:CST
DTSTART:20191103T070000
END:STANDARD
END:VTIMEZONE
BEGIN:VEVENT
DTSTART;TZID=America/Chicago:20180202T180000
DTEND;TZID=America/Chicago:20180202T190000
DTSTAMP:20260420T062715
CREATED:20180315T213308Z
LAST-MODIFIED:20180321T150706Z
UID:4860-1517594400-1517598000@camstl.org
SUMMARY:Artist Talk: Tim Youd
DESCRIPTION:For Tim Youd: St. Louis Retyped\, the Los Angeles-based artist continues his series of durational performances by retyping books by authors with deep St. Louis connections—William S. Burroughs\, T.S. Eliot\, Stanley Elkin\, and Marianne Moore—at CAM and at locations relating to the writers’ biographies. He retypes the books on the same model of typewriter each author used\, typing on two sheets of paper run consecutively through the machine\, with the two ink-battered sheets then hung as diptychs in CAM’s Front Room gallery. \nYoud discusses his involvement with art of the written word with CAM Assistant Curator Misa Jeffereis. This event is free and open to the public
URL:https://camstl.org/event/artist-talk-tim-youd/
CATEGORIES:Free,Talk
ATTACH;FMTTYPE=image/jpeg:https://camstl.org/wp-content/uploads/2018/03/Artist-Talk_Tim-Youd_Abby-Gillardi.jpg
END:VEVENT
END:VCALENDAR