BEGIN:VCALENDAR
VERSION:2.0
PRODID:-//Contemporary Art Museum St. Louis - ECPv6.15.20//NONSGML v1.0//EN
CALSCALE:GREGORIAN
METHOD:PUBLISH
X-WR-CALNAME:Contemporary Art Museum St. Louis
X-ORIGINAL-URL:https://camstl.org
X-WR-CALDESC:Events for Contemporary Art Museum St. Louis
REFRESH-INTERVAL;VALUE=DURATION:PT1H
X-Robots-Tag:noindex
X-PUBLISHED-TTL:PT1H
BEGIN:VTIMEZONE
TZID:America/Chicago
BEGIN:DAYLIGHT
TZOFFSETFROM:-0600
TZOFFSETTO:-0500
TZNAME:CDT
DTSTART:20150308T080000
END:DAYLIGHT
BEGIN:STANDARD
TZOFFSETFROM:-0500
TZOFFSETTO:-0600
TZNAME:CST
DTSTART:20151101T070000
END:STANDARD
BEGIN:DAYLIGHT
TZOFFSETFROM:-0600
TZOFFSETTO:-0500
TZNAME:CDT
DTSTART:20160313T080000
END:DAYLIGHT
BEGIN:STANDARD
TZOFFSETFROM:-0500
TZOFFSETTO:-0600
TZNAME:CST
DTSTART:20161106T070000
END:STANDARD
BEGIN:DAYLIGHT
TZOFFSETFROM:-0600
TZOFFSETTO:-0500
TZNAME:CDT
DTSTART:20170312T080000
END:DAYLIGHT
BEGIN:STANDARD
TZOFFSETFROM:-0500
TZOFFSETTO:-0600
TZNAME:CST
DTSTART:20171105T070000
END:STANDARD
END:VTIMEZONE
BEGIN:VEVENT
DTSTART;TZID=America/Chicago:20160922T190000
DTEND;TZID=America/Chicago:20160922T190000
DTSTAMP:20260421T061303
CREATED:20200601T170052Z
LAST-MODIFIED:20200611T215958Z
UID:25710-1474570800-1474570800@camstl.org
SUMMARY:Critical Conversations: Art and the Black Body
DESCRIPTION:Using Kelley Walker’s series schema; Aquafresh plus Crest with Whitening Expressions as a point of departure\, this panel discussion examines imagery and representations of the black body in contemporary art and culture. \nThe panel features Lyndon Barrois Jr.\, artist and Museum Educator at CAM; Vanity Gee\, educator\, musician\, and Director of Community Programs and Grand Center Operations at Craft Alliance Center of Art + Design; Kahlil Irving\, artist and MFA student at the Sam Fox School of Design and Visual Arts at Washington University; Danielle and Kevin McCoy\, interdisciplinary design duo WORK/PLAY; Katherine Simone Reynolds\, artist\, theunsuspended.com; MK Stallings\, poet and founder of UrbArts; and Rebecca Wanzo\, Ph.D.\, Associate Professor of Women\, Gender\, and Sexuality Studies and Associate Director of Center for Humanities at Washington University in St. Louis. \nThis program is presented in partnership with Critical Mass for the Visual Arts.
URL:https://camstl.org/event/critical-conversations-art-and-the-black-body/
LOCATION:Contemporary Art Museum St. Louis\, 3750 Washington Blvd\, St. Louis\, MO\, 63108\, United States
CATEGORIES:Free,Talk
ATTACH;FMTTYPE=image/jpeg:https://camstl.org/wp-content/uploads/2020/06/critical-conversations.jpg
GEO:38.6405635;-90.2349529
X-APPLE-STRUCTURED-LOCATION;VALUE=URI;X-ADDRESS=Contemporary Art Museum St. Louis 3750 Washington Blvd St. Louis MO 63108 United States;X-APPLE-RADIUS=500;X-TITLE=3750 Washington Blvd:geo:-90.2349529,38.6405635
END:VEVENT
END:VCALENDAR