BEGIN:VCALENDAR
VERSION:2.0
PRODID:-//Contemporary Art Museum St. Louis - ECPv6.15.20//NONSGML v1.0//EN
CALSCALE:GREGORIAN
METHOD:PUBLISH
X-WR-CALNAME:Contemporary Art Museum St. Louis
X-ORIGINAL-URL:https://camstl.org
X-WR-CALDESC:Events for Contemporary Art Museum St. Louis
REFRESH-INTERVAL;VALUE=DURATION:PT1H
X-Robots-Tag:noindex
X-PUBLISHED-TTL:PT1H
BEGIN:VTIMEZONE
TZID:America/Chicago
BEGIN:DAYLIGHT
TZOFFSETFROM:-0600
TZOFFSETTO:-0500
TZNAME:CDT
DTSTART:20180311T080000
END:DAYLIGHT
BEGIN:STANDARD
TZOFFSETFROM:-0500
TZOFFSETTO:-0600
TZNAME:CST
DTSTART:20181104T070000
END:STANDARD
BEGIN:DAYLIGHT
TZOFFSETFROM:-0600
TZOFFSETTO:-0500
TZNAME:CDT
DTSTART:20190310T080000
END:DAYLIGHT
BEGIN:STANDARD
TZOFFSETFROM:-0500
TZOFFSETTO:-0600
TZNAME:CST
DTSTART:20191103T070000
END:STANDARD
BEGIN:DAYLIGHT
TZOFFSETFROM:-0600
TZOFFSETTO:-0500
TZNAME:CDT
DTSTART:20200308T080000
END:DAYLIGHT
BEGIN:STANDARD
TZOFFSETFROM:-0500
TZOFFSETTO:-0600
TZNAME:CST
DTSTART:20201101T070000
END:STANDARD
END:VTIMEZONE
BEGIN:VEVENT
DTSTART;TZID=America/Chicago:20191211T103000
DTEND;TZID=America/Chicago:20191211T120000
DTSTAMP:20260421T083853
CREATED:20190821T173652Z
LAST-MODIFIED:20190821T173652Z
UID:18802-1576060200-1576065600@camstl.org
SUMMARY:Drawing from Observation
DESCRIPTION:Museum Educator José Garza gives a tour of Stephanie Syjuco: Rogue States with a focus on observation and discussion. Afterward\, Garza leads a drawing workshop with art from the exhibition as subject matter. Drawing from Observation combines seeing\, learning\, interpretation\, and creative activity\, all in a single morning. Drawing materials and easels will be provided. Register early—class is limited to 20 participants.
URL:https://camstl.org/event/drawing-from-observation-3/
LOCATION:Contemporary Art Museum St. Louis\, 3750 Washington Blvd\, St. Louis\, MO\, 63108\, United States
CATEGORIES:Free,Tour
ATTACH;FMTTYPE=image/jpeg:https://camstl.org/wp-content/uploads/2019/08/drawing-observation-resized.jpg
GEO:38.6405635;-90.2349529
X-APPLE-STRUCTURED-LOCATION;VALUE=URI;X-ADDRESS=Contemporary Art Museum St. Louis 3750 Washington Blvd St. Louis MO 63108 United States;X-APPLE-RADIUS=500;X-TITLE=3750 Washington Blvd:geo:-90.2349529,38.6405635
END:VEVENT
END:VCALENDAR