BEGIN:VCALENDAR
VERSION:2.0
PRODID:-//Contemporary Art Museum St. Louis - ECPv6.15.20//NONSGML v1.0//EN
CALSCALE:GREGORIAN
METHOD:PUBLISH
X-WR-CALNAME:Contemporary Art Museum St. Louis
X-ORIGINAL-URL:https://camstl.org
X-WR-CALDESC:Events for Contemporary Art Museum St. Louis
REFRESH-INTERVAL;VALUE=DURATION:PT1H
X-Robots-Tag:noindex
X-PUBLISHED-TTL:PT1H
BEGIN:VTIMEZONE
TZID:America/Chicago
BEGIN:DAYLIGHT
TZOFFSETFROM:-0600
TZOFFSETTO:-0500
TZNAME:CDT
DTSTART:20200308T080000
END:DAYLIGHT
BEGIN:STANDARD
TZOFFSETFROM:-0500
TZOFFSETTO:-0600
TZNAME:CST
DTSTART:20201101T070000
END:STANDARD
BEGIN:DAYLIGHT
TZOFFSETFROM:-0600
TZOFFSETTO:-0500
TZNAME:CDT
DTSTART:20210314T080000
END:DAYLIGHT
BEGIN:STANDARD
TZOFFSETFROM:-0500
TZOFFSETTO:-0600
TZNAME:CST
DTSTART:20211107T070000
END:STANDARD
BEGIN:DAYLIGHT
TZOFFSETFROM:-0600
TZOFFSETTO:-0500
TZNAME:CDT
DTSTART:20220313T080000
END:DAYLIGHT
BEGIN:STANDARD
TZOFFSETFROM:-0500
TZOFFSETTO:-0600
TZNAME:CST
DTSTART:20221106T070000
END:STANDARD
END:VTIMEZONE
BEGIN:VEVENT
DTSTART;TZID=America/Chicago:20210331T183000
DTEND;TZID=America/Chicago:20210331T193000
DTSTAMP:20260420T050547
CREATED:20210217T160016Z
LAST-MODIFIED:20210218T221427Z
UID:37378-1617215400-1617219000@camstl.org
SUMMARY:Feast Your Eyes Takeout Edition: Akar
DESCRIPTION:$85 / $60 members \nChef Bernie Lee’s Akar menu reflects his Malaysian roots and his global travels. For this Takeout Edition\, enjoy your multicourse meal from the comfort of home. Guests will pick up their dinner packages prior to an online conversation via Zoom with Chef Lee and Director of Learning and Engagement Michelle Dezember\, exploring the creative intersection of culinary and visual arts while eating amazing cuisine. \nCAM members enjoy $25 off the ticket price. Email mschraier@camstl.org for discount details. Please indicate vegetarian meal preference in the ticket notes.
URL:https://camstl.org/event/feast-your-eyes-akar-takeout-edition/
LOCATION:Contemporary Art Museum St. Louis\, 3750 Washington Blvd\, St. Louis\, MO\, 63108\, United States
CATEGORIES:Members,Tour,Virtual
ATTACH;FMTTYPE=image/png:https://camstl.org/wp-content/uploads/2021/02/akar.png
GEO:38.6405635;-90.2349529
X-APPLE-STRUCTURED-LOCATION;VALUE=URI;X-ADDRESS=Contemporary Art Museum St. Louis 3750 Washington Blvd St. Louis MO 63108 United States;X-APPLE-RADIUS=500;X-TITLE=3750 Washington Blvd:geo:-90.2349529,38.6405635
END:VEVENT
END:VCALENDAR