BEGIN:VCALENDAR
VERSION:2.0
PRODID:-//Contemporary Art Museum St. Louis - ECPv6.15.20//NONSGML v1.0//EN
CALSCALE:GREGORIAN
METHOD:PUBLISH
X-WR-CALNAME:Contemporary Art Museum St. Louis
X-ORIGINAL-URL:https://camstl.org
X-WR-CALDESC:Events for Contemporary Art Museum St. Louis
REFRESH-INTERVAL;VALUE=DURATION:PT1H
X-Robots-Tag:noindex
X-PUBLISHED-TTL:PT1H
BEGIN:VTIMEZONE
TZID:America/Chicago
BEGIN:DAYLIGHT
TZOFFSETFROM:-0600
TZOFFSETTO:-0500
TZNAME:CDT
DTSTART:20250309T080000
END:DAYLIGHT
BEGIN:STANDARD
TZOFFSETFROM:-0500
TZOFFSETTO:-0600
TZNAME:CST
DTSTART:20251102T070000
END:STANDARD
BEGIN:DAYLIGHT
TZOFFSETFROM:-0600
TZOFFSETTO:-0500
TZNAME:CDT
DTSTART:20260308T080000
END:DAYLIGHT
BEGIN:STANDARD
TZOFFSETFROM:-0500
TZOFFSETTO:-0600
TZNAME:CST
DTSTART:20261101T070000
END:STANDARD
BEGIN:DAYLIGHT
TZOFFSETFROM:-0600
TZOFFSETTO:-0500
TZNAME:CDT
DTSTART:20270314T080000
END:DAYLIGHT
BEGIN:STANDARD
TZOFFSETFROM:-0500
TZOFFSETTO:-0600
TZNAME:CST
DTSTART:20271107T070000
END:STANDARD
END:VTIMEZONE
BEGIN:VEVENT
DTSTART;TZID=America/Chicago:20260528T193000
DTEND;TZID=America/Chicago:20260528T210000
DTSTAMP:20260424T055521
CREATED:20260423T151547Z
LAST-MODIFIED:20260423T210347Z
UID:77525-1779996600-1780002000@camstl.org
SUMMARY:Film Screening at Webster University: Hedwig and the Angry Inch
DESCRIPTION:Location: Winifred Moore Auditorium at Webster University\, 470 E Lockwood Ave. \nDirected by John Cameron Mitchell\, 2001\, USA\, 91 minutes \nAs a complement to the program Behind this Mask: Celebrating Claude Cahun and Marcel Moore\, Webster University is co-presenting a free screening of Hedwig and the Angry Inch. For this trailblazing musical\, writer-director-star John Cameron Mitchell and composer-lyricist Stephen Trask brought their signature creation from stage to screen for a movie as unclassifiable as its protagonist.  \nRaised as a boy in East Berlin\, Hedwig (Mitchell) undergoes a traumatic personal transformation in order to emigrate to the U.S.\, where she reinvents herself as an “internationally ignored” but divinely talented rock diva—characterized by Mitchell as inhabiting a “beautiful gender of one.” The film tells Hedwig’s story through her music\, an eclectic assortment of original punk anthems and power ballads by Trask\, matching them with a freewheeling cinematic mosaic of music-video fantasies\, animated interludes\, and moments of bracing emotional realism. A hard-charging song cycle and a tender character study\, Hedwig and the Angry Inch is a tribute to the transcendent power of rock and roll. \nFor more information\, click here.
URL:https://camstl.org/event/film-screening-at-webster-university-hedwig-and-the-angry-inch/
LOCATION:Contemporary Art Museum St. Louis\, 3750 Washington Blvd\, St. Louis\, MO\, 63108\, United States
CATEGORIES:Film Screening,Free
ATTACH;FMTTYPE=image/jpeg:https://camstl.org/wp-content/uploads/2026/04/Hedwig-and-the-Angry-Inch.jpeg
GEO:38.6405635;-90.2349529
X-APPLE-STRUCTURED-LOCATION;VALUE=URI;X-ADDRESS=Contemporary Art Museum St. Louis 3750 Washington Blvd St. Louis MO 63108 United States;X-APPLE-RADIUS=500;X-TITLE=3750 Washington Blvd:geo:-90.2349529,38.6405635
END:VEVENT
END:VCALENDAR