BEGIN:VCALENDAR
VERSION:2.0
PRODID:-//Contemporary Art Museum St. Louis - ECPv6.15.20//NONSGML v1.0//EN
CALSCALE:GREGORIAN
METHOD:PUBLISH
X-WR-CALNAME:Contemporary Art Museum St. Louis
X-ORIGINAL-URL:https://camstl.org
X-WR-CALDESC:Events for Contemporary Art Museum St. Louis
REFRESH-INTERVAL;VALUE=DURATION:PT1H
X-Robots-Tag:noindex
X-PUBLISHED-TTL:PT1H
BEGIN:VTIMEZONE
TZID:America/Chicago
BEGIN:DAYLIGHT
TZOFFSETFROM:-0600
TZOFFSETTO:-0500
TZNAME:CDT
DTSTART:20200308T080000
END:DAYLIGHT
BEGIN:STANDARD
TZOFFSETFROM:-0500
TZOFFSETTO:-0600
TZNAME:CST
DTSTART:20201101T070000
END:STANDARD
BEGIN:DAYLIGHT
TZOFFSETFROM:-0600
TZOFFSETTO:-0500
TZNAME:CDT
DTSTART:20210314T080000
END:DAYLIGHT
BEGIN:STANDARD
TZOFFSETFROM:-0500
TZOFFSETTO:-0600
TZNAME:CST
DTSTART:20211107T070000
END:STANDARD
BEGIN:DAYLIGHT
TZOFFSETFROM:-0600
TZOFFSETTO:-0500
TZNAME:CDT
DTSTART:20220313T080000
END:DAYLIGHT
BEGIN:STANDARD
TZOFFSETFROM:-0500
TZOFFSETTO:-0600
TZNAME:CST
DTSTART:20221106T070000
END:STANDARD
END:VTIMEZONE
BEGIN:VEVENT
DTSTART;TZID=America/Chicago:20210512T100000
DTEND;TZID=America/Chicago:20210512T100000
DTSTAMP:20260420T062547
CREATED:20210216T232109Z
LAST-MODIFIED:20210510T202205Z
UID:37325-1620813600-1620813600@camstl.org
SUMMARY:Film Screening: Pink Slime Caesar Shift: Gold Loop (Chapter 2)
DESCRIPTION:Jen Liu premieres her video Pink Slime Caesar Shift: Gold Loop (2020–21)\, revised for a thee-part virtual screening (Triad). The work is a reflection on e-waste\, political resistance\, industrial poisoning\, and disappearing activists. The online screening accompanies the gallery presentation of Pink Slime Caesar Shift: Gold Loop. Chapter 2 is on view May 12–June 16. Watch at camstl.org/film-screening.
URL:https://camstl.org/event/film-screening-jen-liu-chapter-2/
LOCATION:Contemporary Art Museum St. Louis\, 3750 Washington Blvd\, St. Louis\, MO\, 63108\, United States
CATEGORIES:Film Screening,Free,Virtual
ATTACH;FMTTYPE=image/png:https://camstl.org/wp-content/uploads/2021/02/jen-liu2.png
GEO:38.6405635;-90.2349529
X-APPLE-STRUCTURED-LOCATION;VALUE=URI;X-ADDRESS=Contemporary Art Museum St. Louis 3750 Washington Blvd St. Louis MO 63108 United States;X-APPLE-RADIUS=500;X-TITLE=3750 Washington Blvd:geo:-90.2349529,38.6405635
END:VEVENT
END:VCALENDAR