BEGIN:VCALENDAR
VERSION:2.0
PRODID:-//Contemporary Art Museum St. Louis - ECPv6.15.20//NONSGML v1.0//EN
CALSCALE:GREGORIAN
METHOD:PUBLISH
X-WR-CALNAME:Contemporary Art Museum St. Louis
X-ORIGINAL-URL:https://camstl.org
X-WR-CALDESC:Events for Contemporary Art Museum St. Louis
REFRESH-INTERVAL;VALUE=DURATION:PT1H
X-Robots-Tag:noindex
X-PUBLISHED-TTL:PT1H
BEGIN:VTIMEZONE
TZID:America/Chicago
BEGIN:DAYLIGHT
TZOFFSETFROM:-0600
TZOFFSETTO:-0500
TZNAME:CDT
DTSTART:20250309T080000
END:DAYLIGHT
BEGIN:STANDARD
TZOFFSETFROM:-0500
TZOFFSETTO:-0600
TZNAME:CST
DTSTART:20251102T070000
END:STANDARD
BEGIN:DAYLIGHT
TZOFFSETFROM:-0600
TZOFFSETTO:-0500
TZNAME:CDT
DTSTART:20260308T080000
END:DAYLIGHT
BEGIN:STANDARD
TZOFFSETFROM:-0500
TZOFFSETTO:-0600
TZNAME:CST
DTSTART:20261101T070000
END:STANDARD
BEGIN:DAYLIGHT
TZOFFSETFROM:-0600
TZOFFSETTO:-0500
TZNAME:CDT
DTSTART:20270314T080000
END:DAYLIGHT
BEGIN:STANDARD
TZOFFSETFROM:-0500
TZOFFSETTO:-0600
TZNAME:CST
DTSTART:20271107T070000
END:STANDARD
END:VTIMEZONE
BEGIN:VEVENT
DTSTART;TZID=America/Chicago:20260504T170000
DTEND;TZID=America/Chicago:20260504T210000
DTSTAMP:20260420T050426
CREATED:20260304T164703Z
LAST-MODIFIED:20260408T150907Z
UID:77299-1777914000-1777928400@camstl.org
SUMMARY:Met Gala Watch Party: The Art of Style
DESCRIPTION:Join Fashion Group International of St. Louis (FGI) in celebrating the most spectacular looks in St. Louis alongside a livestream of the iconic New York Met Gala red carpet.  \nGuests will enter a world of fashion including a red carpet and a chance to discuss their style with local fashion leaders among displays of fashion as art by local designers organized by Black Creatives in the Lou. In addition to a watch party of the Met Gala red carpet with large screen projection\, the evening also celebrates the 90th anniversary of FGI through Images of Illusion II\, a juried fashion editorial pop-up photo exhibition.  \nGuests are invited to become part of the festivities through their art-inspired\, expressive\, and intentional looks\, drawing inspiration from the 2026 Met Gala theme\, Costume Art. Look no further than CAM’s current exhibition And I Saw New Heavens and a New Earth: The Partnership\, Art\, and Activism of Claude Cahun and Marcel Moore for artistic representations of the body and self-representation. A guest runway walk will recognize outstanding individual interpretations of the theme. \nThroughout the evening\, all guests will be treated to complimentary light bites and drinks for purchase; a limited number of VIP packages with exclusive benefits are also available. The event cultivates an experience that is elevated\, inclusive\, and playful—where fashion\, art\, and community meet\, and every guest is both artist and masterpiece. \nFree Tickets \nThe watch party\, red carpet\, and exhibitions are free to attend\, but space is limited. Registration is encouraged; please click here to register. \nVIP Tickets \nFGI offers exclusive VIP tickets that include: \n\nComplimentary drink ticket\nPrivate VIP reception area with food \nPriority seating at the red carpet \nLimited edition bracelet\n\nVIP tickets are $105 each\, which includes a processing fee. To purchase a VIP ticket\, please click here. \nSchedule \n\n5:00 pm: Doors open for viewing exhibitions; red carpet livestream begins\n6:00 pm: VIP Reception\n6:30 pm: Guided tour for VIP ticketholders\n7:00 pm: Guest runway walk\n7:45 pm: Awards ceremony\n\nAccessibility Notes \n\nSeating is provided for the red carpet and watch party on a first come\, first serve basis. VIP ticket holders receive priority seating. If you require seating for accessibility purposes\, please email programs@camstl.org to reserve a seat.\nTo request an American Sign Language (ASL) interpreter for this event\, please contact programs@camstl.org with as much prior notice as possible to ensure availability.
URL:https://camstl.org/event/met-gala-watch-party/
LOCATION:Contemporary Art Museum St. Louis\, 3750 Washington Blvd\, St. Louis\, MO\, 63108\, United States
CATEGORIES:Free
ATTACH;FMTTYPE=image/png:https://camstl.org/wp-content/uploads/2026/03/Met-Gala-Watch-Party.png
GEO:38.6405635;-90.2349529
X-APPLE-STRUCTURED-LOCATION;VALUE=URI;X-ADDRESS=Contemporary Art Museum St. Louis 3750 Washington Blvd St. Louis MO 63108 United States;X-APPLE-RADIUS=500;X-TITLE=3750 Washington Blvd:geo:-90.2349529,38.6405635
END:VEVENT
END:VCALENDAR