BEGIN:VCALENDAR
VERSION:2.0
PRODID:-//Contemporary Art Museum St. Louis - ECPv6.15.20//NONSGML v1.0//EN
CALSCALE:GREGORIAN
METHOD:PUBLISH
X-WR-CALNAME:Contemporary Art Museum St. Louis
X-ORIGINAL-URL:https://camstl.org
X-WR-CALDESC:Events for Contemporary Art Museum St. Louis
REFRESH-INTERVAL;VALUE=DURATION:PT1H
X-Robots-Tag:noindex
X-PUBLISHED-TTL:PT1H
BEGIN:VTIMEZONE
TZID:America/Chicago
BEGIN:DAYLIGHT
TZOFFSETFROM:-0600
TZOFFSETTO:-0500
TZNAME:CDT
DTSTART:20190310T080000
END:DAYLIGHT
BEGIN:STANDARD
TZOFFSETFROM:-0500
TZOFFSETTO:-0600
TZNAME:CST
DTSTART:20191103T070000
END:STANDARD
BEGIN:DAYLIGHT
TZOFFSETFROM:-0600
TZOFFSETTO:-0500
TZNAME:CDT
DTSTART:20200308T080000
END:DAYLIGHT
BEGIN:STANDARD
TZOFFSETFROM:-0500
TZOFFSETTO:-0600
TZNAME:CST
DTSTART:20201101T070000
END:STANDARD
BEGIN:DAYLIGHT
TZOFFSETFROM:-0600
TZOFFSETTO:-0500
TZNAME:CDT
DTSTART:20210314T080000
END:DAYLIGHT
BEGIN:STANDARD
TZOFFSETFROM:-0500
TZOFFSETTO:-0600
TZNAME:CST
DTSTART:20211107T070000
END:STANDARD
END:VTIMEZONE
BEGIN:VEVENT
DTSTART;TZID=America/Chicago:20201015T183000
DTEND;TZID=America/Chicago:20201015T183000
DTSTAMP:20260419T140639
CREATED:20200831T162036Z
LAST-MODIFIED:20201113T195832Z
UID:29710-1602786600-1602786600@camstl.org
SUMMARY:RE: Botanical Spirits
DESCRIPTION:Register \nTaking inspiration from the gardens in Ebony G. Patterson’s exhibition\, Nezka Pfeifer\, Museum Curator at the Missouri Botanical Garden and an expert in botanical and biocultural history\, discusses the social impacts of the production and distribution of plant-based spirits. \nPlease note this event is online only. Register above to receive a link to the Zoom webinar. \nWatch the program here.
URL:https://camstl.org/event/re-botanical-spirits/
LOCATION:Contemporary Art Museum St. Louis\, 3750 Washington Blvd\, St. Louis\, MO\, 63108\, United States
CATEGORIES:Free,Talk,Virtual
ATTACH;FMTTYPE=image/jpeg:https://camstl.org/wp-content/uploads/2020/08/Ebony-G.-Patterson_…a-nest-above…_2019-e1599743606667.jpg
GEO:38.6405635;-90.2349529
X-APPLE-STRUCTURED-LOCATION;VALUE=URI;X-ADDRESS=Contemporary Art Museum St. Louis 3750 Washington Blvd St. Louis MO 63108 United States;X-APPLE-RADIUS=500;X-TITLE=3750 Washington Blvd:geo:-90.2349529,38.6405635
END:VEVENT
END:VCALENDAR