BEGIN:VCALENDAR
VERSION:2.0
PRODID:-//Contemporary Art Museum St. Louis - ECPv6.15.20//NONSGML v1.0//EN
CALSCALE:GREGORIAN
METHOD:PUBLISH
X-WR-CALNAME:Contemporary Art Museum St. Louis
X-ORIGINAL-URL:https://camstl.org
X-WR-CALDESC:Events for Contemporary Art Museum St. Louis
REFRESH-INTERVAL;VALUE=DURATION:PT1H
X-Robots-Tag:noindex
X-PUBLISHED-TTL:PT1H
BEGIN:VTIMEZONE
TZID:America/Chicago
BEGIN:DAYLIGHT
TZOFFSETFROM:-0600
TZOFFSETTO:-0500
TZNAME:CDT
DTSTART:20160313T080000
END:DAYLIGHT
BEGIN:STANDARD
TZOFFSETFROM:-0500
TZOFFSETTO:-0600
TZNAME:CST
DTSTART:20161106T070000
END:STANDARD
BEGIN:DAYLIGHT
TZOFFSETFROM:-0600
TZOFFSETTO:-0500
TZNAME:CDT
DTSTART:20170312T080000
END:DAYLIGHT
BEGIN:STANDARD
TZOFFSETFROM:-0500
TZOFFSETTO:-0600
TZNAME:CST
DTSTART:20171105T070000
END:STANDARD
BEGIN:DAYLIGHT
TZOFFSETFROM:-0600
TZOFFSETTO:-0500
TZNAME:CDT
DTSTART:20180311T080000
END:DAYLIGHT
BEGIN:STANDARD
TZOFFSETFROM:-0500
TZOFFSETTO:-0600
TZNAME:CST
DTSTART:20181104T070000
END:STANDARD
END:VTIMEZONE
BEGIN:VEVENT
DTSTART;TZID=America/Chicago:20171014T130000
DTEND;TZID=America/Chicago:20171014T130000
DTSTAMP:20260425T143629
CREATED:20180315T231407Z
LAST-MODIFIED:20180510T154038Z
UID:4895-1507986000-1507986000@camstl.org
SUMMARY:RE: Out of Diaspora
DESCRIPTION:Join us for a panel discussion with artist Zlatko Ćosić\, Chelsea Hand (Workforce Solutions Manger\, International Institute St. Louis)\, and Alex Elmestad (Director of Learning and Engagement\, CAM).\n\nMore than 65 million people are now classified as refugees throughout the world — “refugee” itself a new identity thrust upon them. Video artist Zlatko Ćosić came to the U.S. from the former Yugoslavia\, and his experience of war\, displacement\, and shifting identities has consequently shaped the content of his art practice. Ćosić will discuss his work in relation to the anxiety of identity in the midst of global diaspora. The program is presented in partnership with the International Institute St. Louis.
URL:https://camstl.org/event/re-out-of-diaspora/
CATEGORIES:Free,Talk
ATTACH;FMTTYPE=image/jpeg:https://camstl.org/wp-content/uploads/2018/03/RE_Out-of-Diaspora_2.jpg
END:VEVENT
END:VCALENDAR