BEGIN:VCALENDAR
VERSION:2.0
PRODID:-//Contemporary Art Museum St. Louis - ECPv6.15.20//NONSGML v1.0//EN
CALSCALE:GREGORIAN
METHOD:PUBLISH
X-WR-CALNAME:Contemporary Art Museum St. Louis
X-ORIGINAL-URL:https://camstl.org
X-WR-CALDESC:Events for Contemporary Art Museum St. Louis
REFRESH-INTERVAL;VALUE=DURATION:PT1H
X-Robots-Tag:noindex
X-PUBLISHED-TTL:PT1H
BEGIN:VTIMEZONE
TZID:America/Chicago
BEGIN:DAYLIGHT
TZOFFSETFROM:-0600
TZOFFSETTO:-0500
TZNAME:CDT
DTSTART:20250309T080000
END:DAYLIGHT
BEGIN:STANDARD
TZOFFSETFROM:-0500
TZOFFSETTO:-0600
TZNAME:CST
DTSTART:20251102T070000
END:STANDARD
BEGIN:DAYLIGHT
TZOFFSETFROM:-0600
TZOFFSETTO:-0500
TZNAME:CDT
DTSTART:20260308T080000
END:DAYLIGHT
BEGIN:STANDARD
TZOFFSETFROM:-0500
TZOFFSETTO:-0600
TZNAME:CST
DTSTART:20261101T070000
END:STANDARD
BEGIN:DAYLIGHT
TZOFFSETFROM:-0600
TZOFFSETTO:-0500
TZNAME:CDT
DTSTART:20270314T080000
END:DAYLIGHT
BEGIN:STANDARD
TZOFFSETFROM:-0500
TZOFFSETTO:-0600
TZNAME:CST
DTSTART:20271107T070000
END:STANDARD
END:VTIMEZONE
BEGIN:VEVENT
DTSTART;TZID=America/Chicago:20260417T180000
DTEND;TZID=America/Chicago:20260417T220000
DTSTAMP:20260420T060636
CREATED:20260114T211608Z
LAST-MODIFIED:20260414T204610Z
UID:77022-1776448800-1776463200@camstl.org
SUMMARY:Spark: CAM's 2026 Gala
DESCRIPTION:This event is sold out. For any questions\, please contact Sherry Thomas\, Director of Development. \nCelebrate the power of art to create momentum and ignite change at Spark: CAM’s 2026 Gala. Spark is the moment a young artist feels their future expand—the shine in their eyes when a new technique clicks. It’s the shift in perspective when a visitor encounters contemporary art that stays with them long after they leave. And it is embodied in this year’s event leaders—chairs Bob and Jane Clark and honorary chairs Alexis M. Cossé and Erik Karanik—whose unwavering commitment to supporting diverse artistic voices and access to arts education continues to shine across the region. Get your tickets and join us in igniting a spark that will continue to glow for years to come. \nSpark: CAM’s 2026 Gala\nFriday\, April 17\, 2026\n6:00–10:00 pm \n21c Museum Hotel St. Louis\n1528 Locust Street\nSt. Louis\, MO 63103 \nChairs: Bob and Jane Clark\nHonorary Chairs: Alexis M. Cossé and Erik Karanik \nCocktail attire: Wear your sparkle and light up the night with us. Check out our mood board for outfit inspo! \nCan’t make it to the event but still want to spark change? Donate here to help CAM remain a site of discovery and welcome space for all.
URL:https://camstl.org/event/spark/
LOCATION:Contemporary Art Museum St. Louis\, 3750 Washington Blvd\, St. Louis\, MO\, 63108\, United States
CATEGORIES:Special Event
ATTACH;FMTTYPE=image/png:https://camstl.org/wp-content/uploads/2026/01/CAM_Spark2026_Hero_Static_Website.png
GEO:38.6405635;-90.2349529
X-APPLE-STRUCTURED-LOCATION;VALUE=URI;X-ADDRESS=Contemporary Art Museum St. Louis 3750 Washington Blvd St. Louis MO 63108 United States;X-APPLE-RADIUS=500;X-TITLE=3750 Washington Blvd:geo:-90.2349529,38.6405635
END:VEVENT
END:VCALENDAR